BEGIN:VCALENDAR
VERSION:2.0
PRODID:-//Squarespace Inc/Squarespace 6//v6//EN
BEGIN:VEVENT
UID:5b0bcb836d2a73781c30e2da@squarespace.com
DTSTAMP:20180528T093428Z
DTSTART:20180818T050000Z
DTEND:20180818T110000Z
SUMMARY:DINNER + DANCING 
GEO:-36.942604;174.464671
LOCATION:BARNETT HALL\, 2 North Piha Road\, Piha\, Auckland\, 0772\, New Ze
 aland
END:VEVENT
END:VCALENDAR
