BEGIN:VCALENDAR
VERSION:2.0
PRODID:-//Squarespace Inc/Squarespace 6//v6//EN
BEGIN:VEVENT
UID:5b0bcae8aa4a99033211914d@squarespace.com
DTSTAMP:20180528T093219Z
DTSTART:20180818T010000Z
DTEND:20180818T020000Z
SUMMARY:THE I DO'S 
GEO:-36.919545;174.611591
LOCATION:ORATIA COMBINED CHURCH\, 5 Parker Road\, Auckland\, Auckland\, 060
 4\, New Zealand
END:VEVENT
END:VCALENDAR
