BEGIN:VCALENDAR
VERSION:2.0
PRODID:-//Squarespace Inc/Squarespace 6//v6//EN
BEGIN:VEVENT
UID:5b0a41652b6a28885582ece8@squarespace.com
DTSTAMP:20180527T052830Z
DTSTART:20180818T010000Z
DTEND:20180818T020000Z
SUMMARY:WEDDING CEREMONY
GEO:-36.919545;174.611591
LOCATION:Oratia Combined Church\, five Parker Road\, Oratia\, Auckland\, Ne
 w Zealand
END:VEVENT
END:VCALENDAR
